BEGIN:VCALENDAR
PRODID:-//eluceo/ical//2.0/EN
VERSION:2.0
CALSCALE:GREGORIAN
BEGIN:VEVENT
UID:66ba7ea58376b5.96818610
DTSTAMP:20240813T224630Z
LAST-MODIFIED:20240813T224630Z
SUMMARY:Teacher Webinar - Topics in ASD: Understanding and Addressing Senso
 ry Needs
DESCRIPTION:Event Details: https://events.imesd.k12.or.us/event/2024-11-06/
 teacher-webinar-topics-in-asd-understanding-and-addressing-sensory-needs\n
 \nStudents with ASD experience sensory challenges. Participants will learn
  how these challenges can impact a student’s ability to participate in t
 heir education. Strategies to address sensory challenges will be presented
 .\n\nSensory needs webinar registration link: https://events.teams.microso
 ft.com/event/0a162450-6521-4ff7-8d9d-bd26c694811e@87ba8bce-2a5b-4c73-bc1f-
 60a74d47fb6e
URL:https://events.imesd.k12.or.us/event/2024-11-06/teacher-webinar-topics-
 in-asd-understanding-and-addressing-sensory-needs
DTSTART:20241106T153000
DTEND:20241106T170000
LOCATION:Virtual
BEGIN:VALARM
ACTION:DISPLAY
DESCRIPTION:Alert
TRIGGER:-PT15M
END:VALARM
END:VEVENT
BEGIN:VTIMEZONE
TZID:America/Los_Angeles
BEGIN:STANDARD
DTSTART:20241106T153000
TZNAME:PST
TZOFFSETTO:-0800
TZOFFSETFROM:-0800
END:STANDARD
END:VTIMEZONE
END:VCALENDAR
